BEGIN:VCALENDAR
VERSION:2.0
PRODID:-//Initiative LuK e.V. - ECPv6.15.20//NONSGML v1.0//EN
CALSCALE:GREGORIAN
METHOD:PUBLISH
X-ORIGINAL-URL:https://luk-doemitz.de
X-WR-CALDESC:Veranstaltungen für Initiative LuK e.V.
REFRESH-INTERVAL;VALUE=DURATION:PT1H
X-Robots-Tag:noindex
X-PUBLISHED-TTL:PT1H
BEGIN:VTIMEZONE
TZID:Europe/Berlin
BEGIN:DAYLIGHT
TZOFFSETFROM:+0100
TZOFFSETTO:+0200
TZNAME:CEST
DTSTART:20230326T010000
END:DAYLIGHT
BEGIN:STANDARD
TZOFFSETFROM:+0200
TZOFFSETTO:+0100
TZNAME:CET
DTSTART:20231029T010000
END:STANDARD
BEGIN:DAYLIGHT
TZOFFSETFROM:+0100
TZOFFSETTO:+0200
TZNAME:CEST
DTSTART:20240331T010000
END:DAYLIGHT
BEGIN:STANDARD
TZOFFSETFROM:+0200
TZOFFSETTO:+0100
TZNAME:CET
DTSTART:20241027T010000
END:STANDARD
BEGIN:DAYLIGHT
TZOFFSETFROM:+0100
TZOFFSETTO:+0200
TZNAME:CEST
DTSTART:20250330T010000
END:DAYLIGHT
BEGIN:STANDARD
TZOFFSETFROM:+0200
TZOFFSETTO:+0100
TZNAME:CET
DTSTART:20251026T010000
END:STANDARD
END:VTIMEZONE
BEGIN:VEVENT
DTSTART;TZID=Europe/Berlin:20240419T190000
DTEND;TZID=Europe/Berlin:20240419T190000
DTSTAMP:20260425T124458
CREATED:20230423T160815Z
LAST-MODIFIED:20240417T181331Z
UID:3896-1713553200-1713553200@luk-doemitz.de
SUMMARY:Lesung mit Stefan Kreibohm
DESCRIPTION:ACHTUNG: AUSVERKAUFT – GERINGE ANZAHL AN RESTKARTEN AN DER ABENDKASSE ERHÄLTLICH \nIm Rahmen der „Dömitz literarisch“-Reihe des Kulturverein Initiative LuK e.V. findet am 19. April um 19 Uhr im Dömitzer Rathaus eine Lesung mit Stefan Kreibohm statt. \nDer Vollblut-Wettermann vom NDR liest aus seinem Buch „Kreibohms Welt“. Er verfolgt das Ziel\, jeden für das Thema Wetter zu begeistern. Kreibohm trägt Passagen aus seinem Buch vor und bringt die Hochs und Tiefs und die regionalen wie globalen Wetterphänomene auf humorvolle Weise näher. Darüber hinaus erfahren die Gäste im Gespräch auch etwas über Kreibohm selbst\, über sein Leben und seine Arbeit. \n\nKarten zur Veranstaltung sind im Vorverkauf für 5\,00€ in der Tourist-Information Stadt Dömitz erhältlich. \nACHTUNG: AUSVERKAUFT – GERINGE ANZAHL AN RESTKARTEN AN DER ABENDKASSE ERHÄLTLICH \nAn der Abendkasse kosten diese 7\,00€.\nDer günstige Preis ist durch die finanzielle Unterstützung des Landes Mecklenburg-Vorpommern im Rahmen des Sofortprogramms „RE-Start lebendige Innenstädte M-V“ möglich.
URL:https://luk-doemitz.de/event/lesung-mit-stefan-kreibohm/
LOCATION:Ratssaal im alten Rathaus\, Rathausplatz 1\, 19303 Dömitz\, Deutschland
CATEGORIES:Dömitz:Literarisch
ATTACH;FMTTYPE=image/jpeg:https://luk-doemitz.de/wp-content/uploads/2023/04/plakat-19.4.24-scaled.jpg
END:VEVENT
END:VCALENDAR