BEGIN:VCALENDAR
VERSION:2.0
PRODID:-//Initiative LuK e.V. - ECPv6.15.20//NONSGML v1.0//EN
CALSCALE:GREGORIAN
METHOD:PUBLISH
X-ORIGINAL-URL:https://luk-doemitz.de
X-WR-CALDESC:Veranstaltungen für Initiative LuK e.V.
REFRESH-INTERVAL;VALUE=DURATION:PT1H
X-Robots-Tag:noindex
X-PUBLISHED-TTL:PT1H
BEGIN:VTIMEZONE
TZID:Europe/Berlin
BEGIN:DAYLIGHT
TZOFFSETFROM:+0100
TZOFFSETTO:+0200
TZNAME:CEST
DTSTART:20230326T010000
END:DAYLIGHT
BEGIN:STANDARD
TZOFFSETFROM:+0200
TZOFFSETTO:+0100
TZNAME:CET
DTSTART:20231029T010000
END:STANDARD
BEGIN:DAYLIGHT
TZOFFSETFROM:+0100
TZOFFSETTO:+0200
TZNAME:CEST
DTSTART:20240331T010000
END:DAYLIGHT
BEGIN:STANDARD
TZOFFSETFROM:+0200
TZOFFSETTO:+0100
TZNAME:CET
DTSTART:20241027T010000
END:STANDARD
BEGIN:DAYLIGHT
TZOFFSETFROM:+0100
TZOFFSETTO:+0200
TZNAME:CEST
DTSTART:20250330T010000
END:DAYLIGHT
BEGIN:STANDARD
TZOFFSETFROM:+0200
TZOFFSETTO:+0100
TZNAME:CET
DTSTART:20251026T010000
END:STANDARD
END:VTIMEZONE
BEGIN:VEVENT
DTSTART;TZID=Europe/Berlin:20240602T160000
DTEND;TZID=Europe/Berlin:20240602T160000
DTSTAMP:20260421T111218
CREATED:20240404T124634Z
LAST-MODIFIED:20240509T114733Z
UID:4567-1717344000-1717344000@luk-doemitz.de
SUMMARY:Konzert TA[5]KE
DESCRIPTION:Die Dömitzer Band „TA[5]KE“ spielt am Sonntag\, den 2.6.24\, um 16Uhr auf dem Slüterplatz. \nweitere Informationen folgen
URL:https://luk-doemitz.de/event/konzert-ta5ke/
LOCATION:Dömitz – Innenstadt Slüterplatz\, Slüterplatz\, Dömitz\, Mecklenburg-Vorpommern\, 19303\, Deutschland
CATEGORIES:Dömitz:Bespielt
ATTACH;FMTTYPE=image/jpeg:https://luk-doemitz.de/wp-content/uploads/2024/04/test-doemitz502-scaled.jpg
END:VEVENT
END:VCALENDAR