BEGIN:VCALENDAR
VERSION:2.0
PRODID:-//Initiative LuK e.V. - ECPv6.15.20//NONSGML v1.0//EN
CALSCALE:GREGORIAN
METHOD:PUBLISH
X-WR-CALNAME:Initiative LuK e.V.
X-ORIGINAL-URL:https://luk-doemitz.de
X-WR-CALDESC:Veranstaltungen für Initiative LuK e.V.
REFRESH-INTERVAL;VALUE=DURATION:PT1H
X-Robots-Tag:noindex
X-PUBLISHED-TTL:PT1H
BEGIN:VTIMEZONE
TZID:Europe/Berlin
BEGIN:DAYLIGHT
TZOFFSETFROM:+0100
TZOFFSETTO:+0200
TZNAME:CEST
DTSTART:20230326T010000
END:DAYLIGHT
BEGIN:STANDARD
TZOFFSETFROM:+0200
TZOFFSETTO:+0100
TZNAME:CET
DTSTART:20231029T010000
END:STANDARD
BEGIN:DAYLIGHT
TZOFFSETFROM:+0100
TZOFFSETTO:+0200
TZNAME:CEST
DTSTART:20240331T010000
END:DAYLIGHT
BEGIN:STANDARD
TZOFFSETFROM:+0200
TZOFFSETTO:+0100
TZNAME:CET
DTSTART:20241027T010000
END:STANDARD
BEGIN:DAYLIGHT
TZOFFSETFROM:+0100
TZOFFSETTO:+0200
TZNAME:CEST
DTSTART:20250330T010000
END:DAYLIGHT
BEGIN:STANDARD
TZOFFSETFROM:+0200
TZOFFSETTO:+0100
TZNAME:CET
DTSTART:20251026T010000
END:STANDARD
END:VTIMEZONE
BEGIN:VEVENT
DTSTART;TZID=Europe/Berlin:20241026T110000
DTEND;TZID=Europe/Berlin:20241026T170000
DTSTAMP:20260421T114548
CREATED:20241004T150812Z
LAST-MODIFIED:20241025T211026Z
UID:5019-1729940400-1729962000@luk-doemitz.de
SUMMARY:Dömitz Kreativ Wochenende
DESCRIPTION:Kunst sehen & ausprobieren \nDömitz erwartet wieder ein buntes Wochenende am 26. und 27.Oktober 2024 \nKunst sehen & ausprobieren am zentralen Slüterplatz in der Dömitzer Altstadt: Ein Leerstand wird temporären zum Kunsthaus\, mit Ausstellungen von Künstler*innen aus Dömitz und der Region\, mit vielfältigen Workshop Angeboten: Reinschnuppern in Mal- und Zeichentechniken\, Drucken auf Stoff und Papier\, Material für freies Gestalten allein oder in der Gruppe…\, im Kunstcafé entspannen\, genießen und austauschen… \nSa. & So. von 11 – 17 Uhr \n\nAusstellungen \n+ Willi Austrup  Buntstiftzeichnungen           + Katja Chocholowicz  Druck Installation \n+ Lutz Krenzin  Malerei                                 + Michael Rose  Fotografie\n \n+ Manuela Basaldella  Fotografie                 + Daniela Eisenführ  Malerei\n \n+ Jochim Maack  Fotografie                          + Kathrin Schmidt  Fotografie\n \n+ André Blasche  Skulpturen (Stein)             + Heike Finck  Malerei\n \n+ Silke Papzien  Malerei                                + Hanna Kemker  Fotografie\n \n+ Jörg Schilling Collagen                             + Ulrike Steffen  „ERDarbeiten“\n \n+ Pia Peddinghaus  Fotografie                      + Sabine Wendt  Malerei \n+ Petra Kraft  Malerei \n+ Ausstellung von Werken der Malschüler*innen der Zeichen- und Malschule Kraft \n+ Ausstellung der prämierten Bilder des Schülerwettbewerbs \n\nOffenes Kreativangebot Ausprobieren und gestalten                     Durchgehend geöffnet \nBunte Farben\, Collagematerial\, Leinwände\, Papier\, Stifte\, Pinsel und Spachtel…. Laden ein\, selbst kreativ zu werden. Auf einem großen Malgrund kann auch wieder ein Gemeinschaftskunstwerk entstehen.\nWir freuen uns auf euch! \n\nWorkshops    Teilnahme ohne Anmeldung – bei begrenzten Plätzen\nKostenbeitrag 5\,- bis 10\,- € nach Selbsteinschätzung \nSamstag \nAquarellmalerei                                                                  Lutz Krenzin                    Sa. 11 – 13:30 Uhr  fällt aus \nDrucken mit der Gelplatte                                                  Katja Chocholowicz         Sa. 11 – 13:30 Uhr \nKreativität und Selbstreflexion mit SoulCollage                 Ulrike Steffen                   Sa. 14:30 – 17 Uhr \nSonntag \nStoff bedrucken mit verschiedenen Techniken                  Sabine Schinkel              So. 11 – 13:30 Uhr \nAquarellmalerei                                                                  Lutz Krenzin                    So. 11 – 13:30 Uhr  fällt aus \nDrucken mit der Gelplatte                                                  Katja Chocholowicz         So. 11 – 13:30 Uhr \nKalligrafie & Handlettering                                                 Volker Butenschön          So. 14:30 – 17 Uhr \nStoff bedrucken mit verschiedenen Techniken                  Sabine Schinkel              So. 14:30 – 17 Uhr
URL:https://luk-doemitz.de/event/doemitz-kreativ-wochenende-2/
LOCATION:Altes Bauamt\, Slüterplatz 6\, Dömitz\, 19303\, Germany
CATEGORIES:Dömitz:Kreativ
ATTACH;FMTTYPE=image/jpeg:https://luk-doemitz.de/wp-content/uploads/2024/10/Doemitz-kreativ-24-scaled.jpg
END:VEVENT
END:VCALENDAR