BEGIN:VCALENDAR
VERSION:2.0
PRODID:-//Initiative LuK e.V. - ECPv6.15.20//NONSGML v1.0//EN
CALSCALE:GREGORIAN
METHOD:PUBLISH
X-ORIGINAL-URL:https://luk-doemitz.de
X-WR-CALDESC:Veranstaltungen für Initiative LuK e.V.
REFRESH-INTERVAL;VALUE=DURATION:PT1H
X-Robots-Tag:noindex
X-PUBLISHED-TTL:PT1H
BEGIN:VTIMEZONE
TZID:Europe/Berlin
BEGIN:DAYLIGHT
TZOFFSETFROM:+0100
TZOFFSETTO:+0200
TZNAME:CEST
DTSTART:20250330T010000
END:DAYLIGHT
BEGIN:STANDARD
TZOFFSETFROM:+0200
TZOFFSETTO:+0100
TZNAME:CET
DTSTART:20251026T010000
END:STANDARD
BEGIN:DAYLIGHT
TZOFFSETFROM:+0100
TZOFFSETTO:+0200
TZNAME:CEST
DTSTART:20260329T010000
END:DAYLIGHT
BEGIN:STANDARD
TZOFFSETFROM:+0200
TZOFFSETTO:+0100
TZNAME:CET
DTSTART:20261025T010000
END:STANDARD
BEGIN:DAYLIGHT
TZOFFSETFROM:+0100
TZOFFSETTO:+0200
TZNAME:CEST
DTSTART:20270328T010000
END:DAYLIGHT
BEGIN:STANDARD
TZOFFSETFROM:+0200
TZOFFSETTO:+0100
TZNAME:CET
DTSTART:20271031T010000
END:STANDARD
END:VTIMEZONE
BEGIN:VEVENT
DTSTART;TZID=Europe/Berlin:20260315T150000
DTEND;TZID=Europe/Berlin:20260315T160000
DTSTAMP:20260421T130015
CREATED:20251119T121821Z
LAST-MODIFIED:20251210T233151Z
UID:5527-1773586800-1773590400@luk-doemitz.de
SUMMARY:KITTZ: Der kleine Ritter
DESCRIPTION:Der kleine Ritter\ngespielt vom Tandera Theater für alle ab 4  \nDer kleine Ritter soll reiten lernen\, aber er will nicht. Er hat Angst. Ein kleiner Ritter\, der sich vor Pferden fürchtet? Das gab es noch nie! »Ritter gehen nicht zu Fuß«\, sagt sein Vater. »Alle Ritter reiten«\, sagt seine Mutter. Doch der kleine Ritter will einfach nicht!\nEine kleine Geschichte über Mut und Angst und über die Notwendigkeit\, eigene Erfahrungen machen zu dürfen. Nach dem gleichnamigen Buch von Daniela Römer. \nEintritt: 6 €/P\nMit freundlicher Unterstützung der   \nDas Team des KADE hält kalte und warme Getränke sowie ein kleines Kuchenangebot für alle Besucher bereit\, ab 14 Uhr vor der Vorstellung bis 17 Uhr danach
URL:https://luk-doemitz.de/event/kittz-der-kleine-ritter/
LOCATION:KADE-Kulturort an der Elbe\, Elbstr. 14\, Dömitz\, 19303\, Germany
ATTACH;FMTTYPE=image/jpeg:https://luk-doemitz.de/wp-content/uploads/2025/11/Der-kleine-Ritter-2.jpg
END:VEVENT
END:VCALENDAR