BEGIN:VCALENDAR
VERSION:2.0
PRODID:-//Initiative LuK e.V. - ECPv6.15.20//NONSGML v1.0//EN
CALSCALE:GREGORIAN
METHOD:PUBLISH
X-ORIGINAL-URL:https://luk-doemitz.de
X-WR-CALDESC:Veranstaltungen für Initiative LuK e.V.
REFRESH-INTERVAL;VALUE=DURATION:PT1H
X-Robots-Tag:noindex
X-PUBLISHED-TTL:PT1H
BEGIN:VTIMEZONE
TZID:Europe/Berlin
BEGIN:DAYLIGHT
TZOFFSETFROM:+0100
TZOFFSETTO:+0200
TZNAME:CEST
DTSTART:20220327T010000
END:DAYLIGHT
BEGIN:STANDARD
TZOFFSETFROM:+0200
TZOFFSETTO:+0100
TZNAME:CET
DTSTART:20221030T010000
END:STANDARD
BEGIN:DAYLIGHT
TZOFFSETFROM:+0100
TZOFFSETTO:+0200
TZNAME:CEST
DTSTART:20230326T010000
END:DAYLIGHT
BEGIN:STANDARD
TZOFFSETFROM:+0200
TZOFFSETTO:+0100
TZNAME:CET
DTSTART:20231029T010000
END:STANDARD
BEGIN:DAYLIGHT
TZOFFSETFROM:+0100
TZOFFSETTO:+0200
TZNAME:CEST
DTSTART:20240331T010000
END:DAYLIGHT
BEGIN:STANDARD
TZOFFSETFROM:+0200
TZOFFSETTO:+0100
TZNAME:CET
DTSTART:20241027T010000
END:STANDARD
END:VTIMEZONE
BEGIN:VEVENT
DTSTART;TZID=Europe/Berlin:20231105T150000
DTEND;TZID=Europe/Berlin:20231105T160000
DTSTAMP:20260425T182323
CREATED:20230722T114323Z
LAST-MODIFIED:20230918T190402Z
UID:4066-1699196400-1699200000@luk-doemitz.de
SUMMARY:KITTZ: Das Tierhäuschen
DESCRIPTION:Die Initiative LuK e.V. macht KITTZ (KInderTheater in DömiTZ) möglich: \nDas Tierhäuschen\nGespielt von Alexandra Mattausch \n Frosch\, Maus\, Hahn und Igel sind gute Freunde geworden und leben gemeinsam in einem Haus\, welches ihnen Schutz bietet vor Isegrim\, dem Wolf und vor seinen Kumpanen dem Bär „Mischka“ und dem Fuchs.\nAllein schafft es der Wolf nicht in das Haus einzudringen\, deshalb fragt er den Fuchs um Hilfe.\nDieser wittert eine gute Gelegenheit\, doch er will sich das Fell nicht schmutzig machen und schickt den Bären vor.\nSchaffen es die vier Freunde sich gegen die auf sie lauernde Bedrohung zu verteidigen?\nEine farbenfrohe Inszenierung über das Thema Zusammenhalt und gemeinsames Handeln\, für Jung und Alt. \nVoranmeldung und Information: 038758/22112 oder per E-Mail: tourismus@doemitz.de\nEintrittspreis 5 € \nMit freundlicher Unterstützung der Stadt Dömitz\, des Landkreises Ludwigslust Parchim\, der Ehrenamtsstiftung MV und der Stiftung der Sparkasse Mecklenburg-Schwerin.
URL:https://luk-doemitz.de/event/kittz-kindertheater-in-doemitz-3/
LOCATION:Ratssaal im alten Rathaus\, Rathausplatz 1\, 19303 Dömitz\, Deutschland
CATEGORIES:Theater
ATTACH;FMTTYPE=image/jpeg:https://luk-doemitz.de/wp-content/uploads/2023/07/DasTierhaeuschen_2_AlexandraMattausch_Foto-SebastianWehrstedt.jpg
END:VEVENT
BEGIN:VEVENT
DTSTART;TZID=Europe/Berlin:20231124T190000
DTEND;TZID=Europe/Berlin:20231124T190000
DTSTAMP:20260425T182323
CREATED:20230722T123723Z
LAST-MODIFIED:20231103T105346Z
UID:4082-1700852400-1700852400@luk-doemitz.de
SUMMARY:Axel Pätz - Tastenkabarett
DESCRIPTION:Axel Pätz ist seit Jahren den kleinen und großen Absurditäten des täglichen Lebens auf der Spur. Er stöbert sie auf und fertigt daraus skurrile Geschichten und kunstvolle Lieder. Wer im deutschen Sprachraum nach einem scharfzüngigen Chansonier sucht\, der mit geschliffenen Texten aufwartet und dazu noch hervorragend unterhalten kann\, kommt an Tastenkabarettist Axel Pätz nicht vorbei. \nWie der Norddeutsche seine schrägen Ideen mit genialem Wortwitz in meisterhafte Lieder umsetzt\, lässt erkennen: Er ist ein Könner seines Fachs. Auf der Bühne sprüht Pätz vor Energie\, verblüfft unablässig durch überraschende Wendungen und begleitet sich dazu wie beiläufig virtuos auf Klavier und Akkordeon. \n„Er demaskiert\, er zeigt Haltung\, verletzt aber an keiner Stelle. Am Ende des zweistündigen Abends ist klar: hier steht ein Großer aus dem Kleinkunstfach.“ (Badische Zeitung) \nAm 24. November um 19:00 Uhr\nElb-Café  in der Werderstraße 5\, 19303 Dömitz \nVorverkauf 12\,- €             Abendkasse  15\,- €\nTourist-Information Stadt Dömitz\, Telefon: 038758 / 2 21 12\, E-Mail: tourismus@doemitz.de
URL:https://luk-doemitz.de/event/axel-paetz-tastenkabarett/
LOCATION:Elb-Cafe Dömitz\, Werderstraße 5\, Dömitz\, 19303
CATEGORIES:Dömitz:Bespielt
ATTACH;FMTTYPE=image/jpeg:https://luk-doemitz.de/wp-content/uploads/2023/07/paetz-mandy3596.jpg
END:VEVENT
END:VCALENDAR