BEGIN:VCALENDAR
VERSION:2.0
PRODID:-//Initiative LuK e.V. - ECPv6.15.20//NONSGML v1.0//EN
CALSCALE:GREGORIAN
METHOD:PUBLISH
X-ORIGINAL-URL:https://luk-doemitz.de
X-WR-CALDESC:Veranstaltungen für Initiative LuK e.V.
REFRESH-INTERVAL;VALUE=DURATION:PT1H
X-Robots-Tag:noindex
X-PUBLISHED-TTL:PT1H
BEGIN:VTIMEZONE
TZID:Europe/Berlin
BEGIN:DAYLIGHT
TZOFFSETFROM:+0100
TZOFFSETTO:+0200
TZNAME:CEST
DTSTART:20220327T010000
END:DAYLIGHT
BEGIN:STANDARD
TZOFFSETFROM:+0200
TZOFFSETTO:+0100
TZNAME:CET
DTSTART:20221030T010000
END:STANDARD
BEGIN:DAYLIGHT
TZOFFSETFROM:+0100
TZOFFSETTO:+0200
TZNAME:CEST
DTSTART:20230326T010000
END:DAYLIGHT
BEGIN:STANDARD
TZOFFSETFROM:+0200
TZOFFSETTO:+0100
TZNAME:CET
DTSTART:20231029T010000
END:STANDARD
BEGIN:DAYLIGHT
TZOFFSETFROM:+0100
TZOFFSETTO:+0200
TZNAME:CEST
DTSTART:20240331T010000
END:DAYLIGHT
BEGIN:STANDARD
TZOFFSETFROM:+0200
TZOFFSETTO:+0100
TZNAME:CET
DTSTART:20241027T010000
END:STANDARD
END:VTIMEZONE
BEGIN:VEVENT
DTSTART;TZID=Europe/Berlin:20231202T160000
DTEND;TZID=Europe/Berlin:20231202T160000
DTSTAMP:20260425T170831
CREATED:20231023T124056Z
LAST-MODIFIED:20231023T124242Z
UID:4371-1701532800-1701532800@luk-doemitz.de
SUMMARY:Buchvorstellung „Die Dömitzer Geschichten-Sammelstelle“
DESCRIPTION:Im Rahmen eines Kunstprojektes lud Irmhild Schwarz (Kröte/Lüchow-Dannenberg) im Herbst 2022 Dömitzer:Innen ein\, ihr Geschichten von damals und heute zu erzählen\, die in keiner Chronik der Stadt erscheinen. Sie richtete in der Remise des Dömitzer Rathauses eine „Sammelstelle“ ein\, und etliche Dömitzer:Innen fassten sich ein Herz\, besuchten die Künstlerin und erzählten. \nInitiiert von der Initiative LuK e.V. und unterstützt durch das Sofortprogramm „RE-Start Lebendige Innenstädte M-V“ hat Irmhild Schwarz daraus ein wundervoll illustriertes Geschichten-Sammel-Buch gestaltet\, das nicht nur für Dömitzer:Innen interessant ist.\nAb Mitte November werden in einigen Schaufenstern der Dömitzer Altstadt Reproduktionen der Buchillustrationen mit Auszügen aus den Geschichten ausgestellt. \nDas Buch kann bei der offiziellen Präsentation am 2. Dezember 16Uhr im Rathaus Dömitz zu einem zeitlich limitierten Sonderpreis erworben werden und wird auch gerne von Irmhild Schwarz signiert. Der Erwerb des Buchs ist zu einem späteren Zeitpunkt über LuK möglich. Weitere Verkaufsstellen werden noch bekanntgegeben.
URL:https://luk-doemitz.de/event/buchvorstellung-die-doemitzer-geschichten-sammelstelle/
LOCATION:Rathaus\, Rathausplatz 1\, Dömitz\, 19303\, Deutschland
CATEGORIES:Dömitz,Dömitz:Literarisch
ATTACH;FMTTYPE=image/jpeg:https://luk-doemitz.de/wp-content/uploads/2023/10/7A79720B-1741-4AFB-A4F2-9BFD061BA3E3.jpeg
END:VEVENT
BEGIN:VEVENT
DTSTART;TZID=Europe/Berlin:20231203T170000
DTEND;TZID=Europe/Berlin:20231203T170000
DTSTAMP:20260425T170831
CREATED:20230722T124207Z
LAST-MODIFIED:20231103T104905Z
UID:4085-1701622800-1701622800@luk-doemitz.de
SUMMARY:Adventskonzert Micheal Strauss Trio
DESCRIPTION:„Christmas-Swing“ am 3. Dezember (1. Advent) in Dömitz \nMichael Strauss präsentiert mit seinem Trio eine Musik mit Wiedererkennungswert\, die Blues\, Swing\, Pop und Jazz mit sehr persönlichem Stil vereint. Er nimmt seine ZuhörerInnen mit auf eine musikalische Reise\, einmal voller Melancholie\, dann wieder voller Schwung. Akustisch packende Stücke\, die mit Gitarre\, Klavier und Percussion in Szene gesetzt sind und mit dem einprägsamen Gesang von Michael Strauss und seinen Texten zum Schmunzeln und Nachdenken einladen. \nDie Initiative LuK e.V. lädt mit dieser Veranstaltung zum ersten Mal in die neue Dömitzer Amtsverwaltung als Veranstaltungsort für ein Konzert ein und dankt dem Amt Dömitz-Malliß für die Unterstützung.\nDank der Förderung durch das Land Mecklenburg-Vorpommern mit dem Programm „Re-Start Kultur – Lebendige Innenstädte MV“ ist LuK in der Lage\, die Eintrittspreise sehr günstig zu gestalten\, so dass „Christmas-Swing“ mit dem Michael Strauss Trio als Einstimmung auf Weihnachten für die ganze Familie gedacht ist. \nSonntag\, 3. Dezember\, 17.00Uhr\, Dömitz\, Amtsverwaltung Slüterplatz 2\nVorverkauf: Tourist-Information Stadt Dömitz 038758-22112\, E-Mail: tourismus@doemitz.de
URL:https://luk-doemitz.de/event/adventskonzert-micheal-strauss-trio/
LOCATION:Amtsgebäude Dömitz-Malliß\, Slüterplatz 2\, Dömitz\, 19303\, Deutschland
CATEGORIES:Dömitz:Bespielt
ATTACH;FMTTYPE=image/jpeg:https://luk-doemitz.de/wp-content/uploads/2023/07/mst-13592-scaled.jpg
END:VEVENT
BEGIN:VEVENT
DTSTART;TZID=Europe/Berlin:20231207T150000
DTEND;TZID=Europe/Berlin:20231207T150000
DTSTAMP:20260425T170831
CREATED:20231103T094951Z
LAST-MODIFIED:20231117T142342Z
UID:4383-1701961200-1701961200@luk-doemitz.de
SUMMARY:Weihnachtslesung
DESCRIPTION:Weihnachtliches im „treffpunkt“ \nZu einer Weihnachtslesung mit Musik für Jung und Alt laden wir am Donnerstag\, den 7. Dezember\, um 15.00Uhr in den „treffpunkt“ in Dömitz in der Friedrich-Franz-Str. 11 ein. \nBei Knabberzeug und Apfelpunsch wird der Schauspieler Reinhard Krökel Geschichten zum Weihnachtsfest lesen. Musikalisch begleitet wird das Programm von dem Pianisten Lo Brandis\, der mit bekannten und beliebten Weihnachtsliedern zum Zuhören und Mitsingen einlädt. \nDer Eintritt ist frei!
URL:https://luk-doemitz.de/event/weihnachtslesung/
LOCATION:TreffPunkt\, Friedrich-Franz-Str. 11\, Dömitz\, 19303\, Deutschland
CATEGORIES:TreffPunkt
END:VEVENT
BEGIN:VEVENT
DTSTART;VALUE=DATE:20231221
DTEND;VALUE=DATE:20231222
DTSTAMP:20260425T170831
CREATED:20230722T124852Z
LAST-MODIFIED:20230722T124852Z
UID:4090-1703116800-1703203199@luk-doemitz.de
SUMMARY:Kurzfilmtag 2023
DESCRIPTION:weitere Informationen zur Kinoveranstaltung folgen
URL:https://luk-doemitz.de/event/kurzfilmtag-2023/
CATEGORIES:Kurzfilmtag
END:VEVENT
END:VCALENDAR