BEGIN:VCALENDAR
VERSION:2.0
PRODID:-//Initiative LuK e.V. - ECPv6.15.20//NONSGML v1.0//EN
CALSCALE:GREGORIAN
METHOD:PUBLISH
X-WR-CALNAME:Initiative LuK e.V.
X-ORIGINAL-URL:https://luk-doemitz.de
X-WR-CALDESC:Veranstaltungen für Initiative LuK e.V.
REFRESH-INTERVAL;VALUE=DURATION:PT1H
X-Robots-Tag:noindex
X-PUBLISHED-TTL:PT1H
BEGIN:VTIMEZONE
TZID:Europe/Berlin
BEGIN:DAYLIGHT
TZOFFSETFROM:+0100
TZOFFSETTO:+0200
TZNAME:CEST
DTSTART:20230326T010000
END:DAYLIGHT
BEGIN:STANDARD
TZOFFSETFROM:+0200
TZOFFSETTO:+0100
TZNAME:CET
DTSTART:20231029T010000
END:STANDARD
BEGIN:DAYLIGHT
TZOFFSETFROM:+0100
TZOFFSETTO:+0200
TZNAME:CEST
DTSTART:20240331T010000
END:DAYLIGHT
BEGIN:STANDARD
TZOFFSETFROM:+0200
TZOFFSETTO:+0100
TZNAME:CET
DTSTART:20241027T010000
END:STANDARD
BEGIN:DAYLIGHT
TZOFFSETFROM:+0100
TZOFFSETTO:+0200
TZNAME:CEST
DTSTART:20250330T010000
END:DAYLIGHT
BEGIN:STANDARD
TZOFFSETFROM:+0200
TZOFFSETTO:+0100
TZNAME:CET
DTSTART:20251026T010000
END:STANDARD
END:VTIMEZONE
BEGIN:VEVENT
DTSTART;TZID=Europe/Berlin:20240308T190000
DTEND;TZID=Europe/Berlin:20240308T190000
DTSTAMP:20260425T125104
CREATED:20240129T183853Z
LAST-MODIFIED:20240129T183853Z
UID:4485-1709924400-1709924400@luk-doemitz.de
SUMMARY:Internationaler Frauentag - Kabarett & Tanz in Dömitz
DESCRIPTION:Den Internationalen Frauentag feiern wir mit der bekannten Hamburger Kabarettistin Helga Siebert. \nNach all den Jahren in der Kleinkunst ist Helga S. immer noch froh\, gesund und munter. Bisher wurde ihr kein Bundesverdienstkreuz verliehen\, das ist für sie kein Problem! Sie leiht sich eh ungern etwas!\nDafür reimt\, textet und spielt sie um so lieber vor dem geneigten Publikum. In ihrem Jubiläumsjahr gönnt sich die Kabarettistin „Brillis“\, Lieblingsnummern und Highlights aus allen Programmen\, wobei es ihr vorrangig ihre „Frauentypen“ angetan haben. Mit politischen Seitenhieben muss gerechnet werden. \nEs wird also einen höchst amüsanten\, abwechslungsreichen und spannenden Abend mit Helga Siebert und ihrem Programm „Der Jubiläumsrückblick“ geben.\nNach der Vorstellung kann kann getanzt werden! \nWann: 8. März 2023\, 19.00 Uhr\nWo: music cafe „martins“\, Torstraße 14\, 19303 Dömitz – „Hutkasse“\nBitte Platz reservieren unter Tel: 0177 833 23 27
URL:https://luk-doemitz.de/event/internationaler-frauentag-kabarett-tanz-in-doemitz/
LOCATION:martins music café\, Torstraße 14\, Dömitz\, 19303\, Deutschland
ATTACH;FMTTYPE=image/jpeg:https://luk-doemitz.de/wp-content/uploads/2024/01/Siebert_foto_christian-anhalt258-e1706553115480.jpg
END:VEVENT
BEGIN:VEVENT
DTSTART;TZID=Europe/Berlin:20240310T150000
DTEND;TZID=Europe/Berlin:20240310T160000
DTSTAMP:20260425T125104
CREATED:20230722T114730Z
LAST-MODIFIED:20231220T140431Z
UID:4070-1710082800-1710086400@luk-doemitz.de
SUMMARY:KITTZ: Luise ist weg
DESCRIPTION:Die Initiative LuK e.V. macht KITTZ (KInderTheater in DömiTZ) möglich: \nLuise ist weg\nFigurentheater für Trödler und Träumer ab 4 Jahren\nGespielt von Petra Albersmann \nNach einem stürmischen Heimweg zählt der Schäfer auf dem Hof wie immer seine Schafe – und bemerkt mit Schreck: Luise ist weg. Luise\, das kleine Schäfchen mit dem schwarzen Fleck auf dem Po. Hund Bruno und Huhn Agathe sind sich einig: Luise ist selbst schuld\, weil sie immer träumt und trödelt. Der Schäfer macht sich trotz der Proteste auf die Suche. Er muss sich beeilen\, denn auch der Wolf hat Luises Spur aufgenommen. Wenn das mal gut geht… \nEin spannender und berührender Spaß für die ganze Familie zum Mitmachen\, Mitlachen und Mitfiebern. \n Eintrittspreis 5€ \nMit freundlicher Unterstützung der Stadt Dömitz\, des Landkreises Ludwigslust Parchim\, der Ehrenamtsstiftung MV und der Stiftung der Sparkasse Mecklenburg-Schwerin.
URL:https://luk-doemitz.de/event/kittz-kindertheater-in-doemitz-5/
LOCATION:Ratssaal im alten Rathaus\, Rathausplatz 1\, 19303 Dömitz\, Deutschland
CATEGORIES:Theater
ATTACH;FMTTYPE=image/jpeg:https://luk-doemitz.de/wp-content/uploads/2023/07/KITTZ-_-Luise-ist-weg_2_TheaterAlbersmann_Foto_KatharinaLepik-scaled.jpg
END:VEVENT
END:VCALENDAR