BEGIN:VCALENDAR
VERSION:2.0
PRODID:-//Initiative LuK e.V. - ECPv6.15.20//NONSGML v1.0//EN
CALSCALE:GREGORIAN
METHOD:PUBLISH
X-WR-CALNAME:Initiative LuK e.V.
X-ORIGINAL-URL:https://luk-doemitz.de
X-WR-CALDESC:Veranstaltungen für Initiative LuK e.V.
REFRESH-INTERVAL;VALUE=DURATION:PT1H
X-Robots-Tag:noindex
X-PUBLISHED-TTL:PT1H
BEGIN:VTIMEZONE
TZID:Europe/Berlin
BEGIN:DAYLIGHT
TZOFFSETFROM:+0100
TZOFFSETTO:+0200
TZNAME:CEST
DTSTART:20240331T010000
END:DAYLIGHT
BEGIN:STANDARD
TZOFFSETFROM:+0200
TZOFFSETTO:+0100
TZNAME:CET
DTSTART:20241027T010000
END:STANDARD
BEGIN:DAYLIGHT
TZOFFSETFROM:+0100
TZOFFSETTO:+0200
TZNAME:CEST
DTSTART:20250330T010000
END:DAYLIGHT
BEGIN:STANDARD
TZOFFSETFROM:+0200
TZOFFSETTO:+0100
TZNAME:CET
DTSTART:20251026T010000
END:STANDARD
BEGIN:DAYLIGHT
TZOFFSETFROM:+0100
TZOFFSETTO:+0200
TZNAME:CEST
DTSTART:20260329T010000
END:DAYLIGHT
BEGIN:STANDARD
TZOFFSETFROM:+0200
TZOFFSETTO:+0100
TZNAME:CET
DTSTART:20261025T010000
END:STANDARD
END:VTIMEZONE
BEGIN:VEVENT
DTSTART;TZID=Europe/Berlin:20250112T150000
DTEND;TZID=Europe/Berlin:20250112T160000
DTSTAMP:20260421T130415
CREATED:20240814T104740Z
LAST-MODIFIED:20241019T130004Z
UID:4959-1736694000-1736697600@luk-doemitz.de
SUMMARY:KITTZ: Piratenlieder aus der Kiste
DESCRIPTION:Gespielt von Magdalena von Rhode für alle ab 4 \nEine besondere Kiste vom Grunde des Meeres\, aus der nicht nur ein grimmiger Pirat mit seinem Papagei Piratenflüche lehrt\, den Rum besingt oder den Jack Sparrow an der Geige gibt. Auch Pippi Langstrumpf am Akkordeon\, ein Wassermann und andere Seefahrer entsteigen dieser Zauberkiste. Es muss nur am Schlüssel gedreht werden und schon nimmt die Kiste Jung und Alt mit auf eine humorvolle und unterhaltsame Reise über die sieben Weltmeere. \nInformation: Tel.:038845 449933 / E-Mail: info@allerhand-theater.de\nEintrittspreis 6 € \nmit freundlicher Unterstützung der Stadt Dömitz und des Bürgerfonds Mecklenburg-Vorpommern
URL:https://luk-doemitz.de/event/kittz-piratenlieder-aus-der-kiste/
LOCATION:Ratssaal im alten Rathaus\, Rathausplatz 1\, 19303 Dömitz\, Deutschland
CATEGORIES:KITTZ: KInderTheater in DömiTZ
ATTACH;FMTTYPE=image/webp:https://luk-doemitz.de/wp-content/uploads/2024/08/Piratenlieder-aus-der-Kiste-Foto-Theresa-Lange-1-1500.webp
END:VEVENT
END:VCALENDAR